BEGIN:VCALENDAR
VERSION:2.0
PRODID:-//Citizens Advice Northumberland - ECPv6.14.2//NONSGML v1.0//EN
CALSCALE:GREGORIAN
METHOD:PUBLISH
X-WR-CALNAME:Citizens Advice Northumberland
X-ORIGINAL-URL:https://www.citizensadvicenorthumberland.org.uk
X-WR-CALDESC:Events for Citizens Advice Northumberland
REFRESH-INTERVAL;VALUE=DURATION:PT1H
X-Robots-Tag:noindex
X-PUBLISHED-TTL:PT1H
BEGIN:VTIMEZONE
TZID:Europe/London
BEGIN:DAYLIGHT
TZOFFSETFROM:+0000
TZOFFSETTO:+0100
TZNAME:BST
DTSTART:20260329T010000
END:DAYLIGHT
BEGIN:STANDARD
TZOFFSETFROM:+0100
TZOFFSETTO:+0000
TZNAME:GMT
DTSTART:20261025T010000
END:STANDARD
END:VTIMEZONE
BEGIN:VEVENT
DTSTART;TZID=Europe/London:20260421T100000
DTEND;TZID=Europe/London:20260421T120000
DTSTAMP:20260421T021549
CREATED:20260211T182128Z
LAST-MODIFIED:20260211T182128Z
UID:13634-1776765600-1776772800@www.citizensadvicenorthumberland.org.uk
SUMMARY:Thriving Together Networking Event - April
DESCRIPTION:We would like to invite you along to our forthcoming network event\n\n📆 Tuesday 21 April 2026\n📌 Felton Village Hall\, Main Street\, Felton\, NE65 9NH\n🕙 10am – 12pm\n\nWe’d be grateful if you would confirm your attendance by completing this form\n\n\nPlease note – to secure your place to attend; the Google booking form must be completed (if colleagues are attending\, we require them to fill out a separate form using their email addresses and permissions please) \n \n\nWe do not have capacity for tables at our events.  \nWe will have a couple of tables for you to display leaflets from your organisation. \n\n\nAny questions?\nEmail admin@thrivingtogethernorthumberland.org.uk and we’ll be in touch.\n\n\nPlease respond no later than 10 April 2026 – The events are quite popular and registration to the event may close early due to over subscription\n\n\n👉 What to expect?\nOur networking events are all about keeping things relaxed – no speeches\, no formal presentations\, just good conversations with great people from Northumberland’s voluntary\, community\, and social enterprise (VCSE) sector. \nIt’s a chance to grab a coffee\, chat with like-minded people\, and celebrate the fantastic work happening in our communities. Our friendly team will be on hand to introduce you to new contacts and help you make meaningful connections. Plus\, once you’ve signed up\, we’ll share a list of attendees so you know who’s coming. \nStill need a reason to drop by? We’ve got pastries—because networking is always better with a bite to eat! 🥐☕ \n🩵💙💛 What others have said about our previous events:\n👉 Thank you … its great to see the breadth of voluntary work going on in the county\n👉 An excellent way to find opportunities in our community\n👉 Really enjoyed this event\, there were a lot of services available to chat with\n👉 Another fantastic event that is conducted in a way that feels informal and welcoming\n👉 Great event\, please do more!
URL:https://www.citizensadvicenorthumberland.org.uk/event/thriving-together-networking-event-april/
LOCATION:Felton Village Hall\, NE65 9NH
CATEGORIES:Thriving Together Northumberland
ORGANIZER;CN="Thriving Together":MAILTO:admin@thrivingtogethernorthumberland.org.uk
END:VEVENT
BEGIN:VEVENT
DTSTART;TZID=Europe/London:20260421T140000
DTEND;TZID=Europe/London:20260421T150000
DTSTAMP:20260421T021549
CREATED:20260415T073916Z
LAST-MODIFIED:20260415T073916Z
UID:14071-1776780000-1776783600@www.citizensadvicenorthumberland.org.uk
SUMMARY:Webinar: In conversation with Professor Mark Tewdwr-Jones: Who really shapes place?
DESCRIPTION:Who decides what our towns\, cities and regions become? And why do so many people feel left out of those decisions?\n\nJoin us for a thought-provoking conversation exploring the power dynamics behind how place is shaped across the North.\n\nThis session will explore:\n– How decisions about place are really made\n– Why communities often feel excluded\n– The role of power\, institutions and leadership\n– What a more people-centred approach could look like\n\nAt a time when systems aim to “work with and for the people”\, this session creates space to ask whether that’s truly happening and how it can be strengthened.\n\n Get your FREE ticket:\nhttps://www.eventbrite.co.uk/e/in-conversation-with-professor-mark-tewdwr-jones-who-really-shapes-place-tickets-1986005967310?aff=oddtdtcreator
URL:https://www.citizensadvicenorthumberland.org.uk/event/webinar-in-conversation-with-professor-mark-tewdwr-jones-who-really-shapes-place/
LOCATION:Online
CATEGORIES:Thriving Together Northumberland
END:VEVENT
END:VCALENDAR