BEGIN:VCALENDAR
VERSION:2.0
PRODID:-//Citizens Advice Northumberland - ECPv6.14.2//NONSGML v1.0//EN
CALSCALE:GREGORIAN
METHOD:PUBLISH
X-WR-CALNAME:Citizens Advice Northumberland
X-ORIGINAL-URL:https://www.citizensadvicenorthumberland.org.uk
X-WR-CALDESC:Events for Citizens Advice Northumberland
REFRESH-INTERVAL;VALUE=DURATION:PT1H
X-Robots-Tag:noindex
X-PUBLISHED-TTL:PT1H
BEGIN:VTIMEZONE
TZID:Europe/London
BEGIN:DAYLIGHT
TZOFFSETFROM:+0000
TZOFFSETTO:+0100
TZNAME:BST
DTSTART:20260329T010000
END:DAYLIGHT
BEGIN:STANDARD
TZOFFSETFROM:+0100
TZOFFSETTO:+0000
TZNAME:GMT
DTSTART:20261025T010000
END:STANDARD
END:VTIMEZONE
BEGIN:VEVENT
DTSTART;TZID=Europe/London:20260424T140000
DTEND;TZID=Europe/London:20260424T150000
DTSTAMP:20260421T195341
CREATED:20260415T074052Z
LAST-MODIFIED:20260415T074052Z
UID:14073-1777039200-1777042800@www.citizensadvicenorthumberland.org.uk
SUMMARY:Webinar - Prevention\, Not Cure: Rebuilding Community from the Ground Up  
DESCRIPTION:In conversation with Candice Randall\n\nAcross the UK\, communities are facing rising challenges\, yet systems often respond after the damage is done rather than investing in prevention.\n\nThis session brings real frontline insight into what it takes to build sustainable\, people-led support that actually works.\n\nWhat you’ll hear about:\n– Why systems reward crisis\, not prevention\n– The reality of funding and sustainability in community work\n– How trusted relationships create real impact\n– Why human connection is at the heart of change\n– What needs to shift for communities to truly thrive\n\nThis conversation connects directly to what we’re hearing through Coast-to-Coast\, amplifying real experiences from communities across the North.\n\n Get your FREE ticket:\nhttps://www.eventbrite.co.uk/e/prevention-not-cure-rebuilding-community-from-the-ground-up-tickets-1987075264607?aff=oddtdtcreator
URL:https://www.citizensadvicenorthumberland.org.uk/event/webinar-prevention-not-cure-rebuilding-community-from-the-ground-up/
LOCATION:Online
CATEGORIES:Thriving Together Northumberland
END:VEVENT
END:VCALENDAR