BEGIN:VCALENDAR
VERSION:2.0
PRODID:-//Citizens Advice Northumberland - ECPv6.14.2//NONSGML v1.0//EN
CALSCALE:GREGORIAN
METHOD:PUBLISH
X-WR-CALNAME:Citizens Advice Northumberland
X-ORIGINAL-URL:https://www.citizensadvicenorthumberland.org.uk
X-WR-CALDESC:Events for Citizens Advice Northumberland
REFRESH-INTERVAL;VALUE=DURATION:PT1H
X-Robots-Tag:noindex
X-PUBLISHED-TTL:PT1H
BEGIN:VTIMEZONE
TZID:Europe/London
BEGIN:DAYLIGHT
TZOFFSETFROM:+0000
TZOFFSETTO:+0100
TZNAME:BST
DTSTART:20260329T010000
END:DAYLIGHT
BEGIN:STANDARD
TZOFFSETFROM:+0100
TZOFFSETTO:+0000
TZNAME:GMT
DTSTART:20261025T010000
END:STANDARD
END:VTIMEZONE
BEGIN:VEVENT
DTSTART;TZID=Europe/London:20260508T130000
DTEND;TZID=Europe/London:20260508T140000
DTSTAMP:20260421T223439
CREATED:20260415T074424Z
LAST-MODIFIED:20260415T074510Z
UID:14075-1778245200-1778248800@www.citizensadvicenorthumberland.org.uk
SUMMARY:Healthwatch Northumberland online event: Live Well with Cancer
DESCRIPTION:Friday 8th May 1-2pm \nJoin us to hear from Ben Elliott from Live Well with Cancer\, a North East charity helping people affected by cancer diagnosis to improve their health and wellbeing. \nWe will hear about the support on offer from the charity to those living in Northumberland alongside an overview of their campaign\, Live Well with Healthy Habits\, helping anyone impacted by cancer or a chronic condition to improve their wellbeing. The campaign promotes the nine habits of a healthy lifestyle including mental health\, physical fitness and emotional wellbeing and relationships with others\, yourself and your diet. \nSign up today at bit.ly/HWN-LWWC-May26 to find out how you can transform your wellbeing or help others to live well with healthy habits and find out more about local support available. \nThis talk is suitable for both professionals and the public and there will be an opportunity to ask questions after the talk.
URL:https://www.citizensadvicenorthumberland.org.uk/event/healthwatch-northumberland-online-event-live-well-with-cancer/
LOCATION:Online
CATEGORIES:Thriving Together Northumberland
END:VEVENT
END:VCALENDAR